BEGIN:VCALENDAR
VERSION:2.0
PRODID:-//Plone.org//NONSGML plone.app.event//EN
X-WR-TIMEZONE:Europe/Madrid
BEGIN:VEVENT
SUMMARY:Conferència Carlos Quintans
DTSTART;TZID=Europe/Madrid:20110321T160000
DTEND;TZID=Europe/Madrid:20110321T183000
DTSTAMP:20260424T212744Z
UID:9537ad5be0510d59e18f7aac65708f54@peter2pre.upc.edu:11003
CREATED:20110215T115800Z
DESCRIPTION:Conferència a càrrec de Carlos Quintans amb el títol\, Sist
 emas
LAST-MODIFIED:20110215T115900Z
URL:https://pab.pa.upc.edu/ca/esdeveniments/conferencia-carlos-quintans
END:VEVENT
BEGIN:VTIMEZONE
TZID:Europe/Madrid
X-LIC-LOCATION:Europe/Madrid
BEGIN:STANDARD
DTSTART:20101031T020000
TZNAME:CET
TZOFFSETFROM:+0200
TZOFFSETTO:+0100
END:STANDARD
END:VTIMEZONE
END:VCALENDAR
