BEGIN:VCALENDAR
VERSION:2.0
PRODID:-//Plone.org//NONSGML plone.app.event//EN
X-WR-TIMEZONE:Europe/Madrid
BEGIN:VEVENT
SUMMARY:Conferència Helio Piñón
DTSTART;TZID=Europe/Madrid:20110228T160000
DTEND;TZID=Europe/Madrid:20110228T183000
DTSTAMP:20260424T160409Z
UID:81f874a151a177033b53ded8e5517050@peter2pre.upc.edu:11003
CREATED:20110215T114600Z
LAST-MODIFIED:20110215T114700Z
URL:https://pab.pa.upc.edu/ca/esdeveniments/conferencia-helio-pinon
END:VEVENT
BEGIN:VTIMEZONE
TZID:Europe/Madrid
X-LIC-LOCATION:Europe/Madrid
BEGIN:STANDARD
DTSTART:20101031T020000
TZNAME:CET
TZOFFSETFROM:+0200
TZOFFSETTO:+0100
END:STANDARD
END:VTIMEZONE
END:VCALENDAR
