BEGIN:VCALENDAR
VERSION:2.0
PRODID:-//Plone.org//NONSGML plone.app.event//EN
X-WR-TIMEZONE:Europe/Madrid
BEGIN:VEVENT
SUMMARY:Conferència Jaume Sanmartí
DTSTART;TZID=Europe/Madrid:20110216T160000
DTEND;TZID=Europe/Madrid:20110216T183000
DTSTAMP:20260425T012258Z
UID:5ea38dcd248c41360a6ee5a64d04d96f@peter2pre.upc.edu:11003
CREATED:20101118T125300Z
LAST-MODIFIED:20110214T171100Z
URL:https://pab.pa.upc.edu/ca/esdeveniments/esdeveniment-de-prova
END:VEVENT
BEGIN:VTIMEZONE
TZID:Europe/Madrid
X-LIC-LOCATION:Europe/Madrid
BEGIN:STANDARD
DTSTART:20101031T020000
TZNAME:CET
TZOFFSETFROM:+0200
TZOFFSETTO:+0100
END:STANDARD
END:VTIMEZONE
END:VCALENDAR
